BEGIN:VCALENDAR
VERSION:2.0
PRODID:-//NetAuktion//NONSGML NetAuktion//SV
METHOD:PUBLISH
BEGIN:VEVENT
UID:20260421T102744-1562091497-netauktion.se
DTSTAMP:20260421T102744
DTSTART:20131129T024400
DTEND:20131129T024700
SUMMARY:Netauktion objekt 1365-043 Auktionspåminnelse
DESCRIPTION:Länk till objektet du var intresserad av: https://staging.netauktion.se/auktion/produkt/forlangningsdel-for-brandstege-13m-6
END:VEVENT
END:VCALENDAR
