BEGIN:VCALENDAR
VERSION:2.0
PRODID:-//NetAuktion//NONSGML NetAuktion//SV
METHOD:PUBLISH
BEGIN:VEVENT
UID:20260421T104356-1680037814-netauktion.se
DTSTAMP:20260421T104356
DTSTART:20080620T034400
DTEND:20080620T034700
SUMMARY:Netauktion objekt 0041-006 Auktionspåminnelse
DESCRIPTION:Länk till objektet du var intresserad av: https://staging.netauktion.se/auktion/produkt/vw-caravelle-25-tdi-96
END:VEVENT
END:VCALENDAR
