BEGIN:VCALENDAR
VERSION:2.0
PRODID:-//NetAuktion//NONSGML NetAuktion//SV
METHOD:PUBLISH
BEGIN:VEVENT
UID:20260421T104400-1704632128-netauktion.se
DTSTAMP:20260421T104400
DTSTART:20130426T013100
DTEND:20130426T013400
SUMMARY:Netauktion objekt 1455-003 Auktionspåminnelse
DESCRIPTION:Länk till objektet du var intresserad av: https://staging.netauktion.se/auktion/produkt/kaffemaskin-krups-rep-objekt
END:VEVENT
END:VCALENDAR
