BEGIN:VCALENDAR
VERSION:2.0
PRODID:-//NetAuktion//NONSGML NetAuktion//SV
METHOD:PUBLISH
BEGIN:VEVENT
UID:20260421T104537-6225361-netauktion.se
DTSTAMP:20260421T104537
DTSTART:20130430T010000
DTEND:20130430T010300
SUMMARY:Netauktion objekt 1005-043 Auktionspåminnelse
DESCRIPTION:Länk till objektet du var intresserad av: https://staging.netauktion.se/auktion/produkt/parti-med-glasprodukter
END:VEVENT
END:VCALENDAR
