BEGIN:VCALENDAR
VERSION:2.0
PRODID:-//NetAuktion//NONSGML NetAuktion//SV
METHOD:PUBLISH
BEGIN:VEVENT
UID:20260421T104529-50172736-netauktion.se
DTSTAMP:20260421T104529
DTSTART:20130430T010100
DTEND:20130430T010400
SUMMARY:Netauktion objekt 1005-044 Auktionspåminnelse
DESCRIPTION:Länk till objektet du var intresserad av: https://staging.netauktion.se/auktion/produkt/think-pink
END:VEVENT
END:VCALENDAR
