BEGIN:VCALENDAR
VERSION:2.0
PRODID:-//NetAuktion//NONSGML NetAuktion//SV
METHOD:PUBLISH
BEGIN:VEVENT
UID:20260421T102840-1645375962-netauktion.se
DTSTAMP:20260421T102840
DTSTART:20130430T010700
DTEND:20130430T011000
SUMMARY:Netauktion objekt 1005-050 Auktionspåminnelse
DESCRIPTION:Länk till objektet du var intresserad av: https://staging.netauktion.se/auktion/produkt/parti-med-lampskarmar-och-lampfotter
END:VEVENT
END:VCALENDAR
