BEGIN:VCALENDAR
VERSION:2.0
PRODID:-//NetAuktion//NONSGML NetAuktion//SV
METHOD:PUBLISH
BEGIN:VEVENT
UID:20260421T104429-107618644-netauktion.se
DTSTAMP:20260421T104429
DTSTART:20130430T010800
DTEND:20130430T011100
SUMMARY:Netauktion objekt 1005-051 Auktionspåminnelse
DESCRIPTION:Länk till objektet du var intresserad av: https://staging.netauktion.se/auktion/produkt/lp-skivor-3
END:VEVENT
END:VCALENDAR
