BEGIN:VCALENDAR
VERSION:2.0
PRODID:-//NetAuktion//NONSGML NetAuktion//SV
METHOD:PUBLISH
BEGIN:VEVENT
UID:20260421T104623-167287089-netauktion.se
DTSTAMP:20260421T104623
DTSTART:20130429T021700
DTEND:20130429T022000
SUMMARY:Netauktion objekt 1185-056 Auktionspåminnelse
DESCRIPTION:Länk till objektet du var intresserad av: https://staging.netauktion.se/auktion/produkt/diverse-sparskruv
END:VEVENT
END:VCALENDAR
