BEGIN:VCALENDAR
VERSION:2.0
PRODID:-//NetAuktion//NONSGML NetAuktion//SV
METHOD:PUBLISH
BEGIN:VEVENT
UID:20260421T104447-1302464484-netauktion.se
DTSTAMP:20260421T104447
DTSTART:20130426T022800
DTEND:20130426T023100
SUMMARY:Netauktion objekt 1458-001 Auktionspåminnelse
DESCRIPTION:Länk till objektet du var intresserad av: https://staging.netauktion.se/auktion/produkt/iphone-4-vit
END:VEVENT
END:VCALENDAR
