BEGIN:VCALENDAR
VERSION:2.0
PRODID:-//NetAuktion//NONSGML NetAuktion//SV
METHOD:PUBLISH
BEGIN:VEVENT
UID:20260421T102833-1058294439-netauktion.se
DTSTAMP:20260421T102833
DTSTART:20130426T022900
DTEND:20130426T023200
SUMMARY:Netauktion objekt 1458-002 Auktionspåminnelse
DESCRIPTION:Länk till objektet du var intresserad av: https://staging.netauktion.se/auktion/produkt/iphone-4-svart
END:VEVENT
END:VCALENDAR
