BEGIN:VCALENDAR
VERSION:2.0
PRODID:-//NetAuktion//NONSGML NetAuktion//SV
METHOD:PUBLISH
BEGIN:VEVENT
UID:20260421T103128-1416493252-netauktion.se
DTSTAMP:20260421T103128
DTSTART:20130530T030100
DTEND:20130530T030400
SUMMARY:Netauktion objekt 1318-017 Auktionspåminnelse
DESCRIPTION:Länk till objektet du var intresserad av: https://staging.netauktion.se/auktion/produkt/samsung-gt-e1080w-5st-6
END:VEVENT
END:VCALENDAR
