BEGIN:VCALENDAR
VERSION:2.0
PRODID:-//NetAuktion//NONSGML NetAuktion//SV
METHOD:PUBLISH
BEGIN:VEVENT
UID:20260421T102745-977434428-netauktion.se
DTSTAMP:20260421T102745
DTSTART:20090430T020000
DTEND:20090430T020300
SUMMARY:Netauktion objekt 0259-002 Auktionspåminnelse
DESCRIPTION:Länk till objektet du var intresserad av: https://staging.netauktion.se/auktion/produkt/konferansbord-och-6-stolar-ikea
END:VEVENT
END:VCALENDAR
