BEGIN:VCALENDAR
VERSION:2.0
PRODID:-//NetAuktion//NONSGML NetAuktion//SV
METHOD:PUBLISH
BEGIN:VEVENT
UID:20260421T104534-579994428-netauktion.se
DTSTAMP:20260421T104534
DTSTART:20090430T020300
DTEND:20090430T020600
SUMMARY:Netauktion objekt 0259-007 Auktionspåminnelse
DESCRIPTION:Länk till objektet du var intresserad av: https://staging.netauktion.se/auktion/produkt/skarmvaggar-8-sektioner
END:VEVENT
END:VCALENDAR
