BEGIN:VCALENDAR
VERSION:2.0
PRODID:-//NetAuktion//NONSGML NetAuktion//SV
METHOD:PUBLISH
BEGIN:VEVENT
UID:20260421T104309-1947820724-netauktion.se
DTSTAMP:20260421T104309
DTSTART:20130930T031300
DTEND:20130930T031600
SUMMARY:Netauktion objekt 1318-121 Auktionspåminnelse
DESCRIPTION:Länk till objektet du var intresserad av: https://staging.netauktion.se/auktion/produkt/2st-emporia-elegance-v35-passande-telefon-for-aldre-4
END:VEVENT
END:VCALENDAR
