BEGIN:VCALENDAR
VERSION:2.0
PRODID:-//NetAuktion//NONSGML NetAuktion//SV
METHOD:PUBLISH
BEGIN:VEVENT
UID:20260421T102934-1141708025-netauktion.se
DTSTAMP:20260421T102934
DTSTART:20130530T035100
DTEND:20130530T035400
SUMMARY:Netauktion objekt 1318-160 Auktionspåminnelse
DESCRIPTION:Länk till objektet du var intresserad av: https://staging.netauktion.se/auktion/produkt/neonode-n2-mini-telefon-2st-2
END:VEVENT
END:VCALENDAR
