BEGIN:VCALENDAR
VERSION:2.0
PRODID:-//NetAuktion//NONSGML NetAuktion//SV
METHOD:PUBLISH
BEGIN:VEVENT
UID:20260421T102832-1112275297-netauktion.se
DTSTAMP:20260421T102832
DTSTART:20130429T221200
DTEND:20130429T221500
SUMMARY:Netauktion objekt 1449-093 Auktionspåminnelse
DESCRIPTION:Länk till objektet du var intresserad av: https://staging.netauktion.se/auktion/produkt/diverse-butiksinredning-tomning
END:VEVENT
END:VCALENDAR
