BEGIN:VCALENDAR
VERSION:2.0
PRODID:-//NetAuktion//NONSGML NetAuktion//SV
METHOD:PUBLISH
BEGIN:VEVENT
UID:20260421T104530-394519414-netauktion.se
DTSTAMP:20260421T104530
DTSTART:20130531T020500
DTEND:20130531T020800
SUMMARY:Netauktion objekt 1146-237 Auktionspåminnelse
DESCRIPTION:Länk till objektet du var intresserad av: https://staging.netauktion.se/auktion/produkt/parlalsband-heaven-med-etui
END:VEVENT
END:VCALENDAR
