BEGIN:VCALENDAR
VERSION:2.0
PRODID:-//NetAuktion//NONSGML NetAuktion//SV
METHOD:PUBLISH
BEGIN:VEVENT
UID:20260421T104354-1063520454-netauktion.se
DTSTAMP:20260421T104354
DTSTART:20090430T020900
DTEND:20090430T021200
SUMMARY:Netauktion objekt 0259-014 Auktionspåminnelse
DESCRIPTION:Länk till objektet du var intresserad av: https://staging.netauktion.se/auktion/produkt/2-plasttankar-1000-literst-8
END:VEVENT
END:VCALENDAR
