BEGIN:VCALENDAR
VERSION:2.0
PRODID:-//NetAuktion//NONSGML NetAuktion//SV
METHOD:PUBLISH
BEGIN:VEVENT
UID:20260421T104427-290068803-netauktion.se
DTSTAMP:20260421T104427
DTSTART:20130531T021800
DTEND:20130531T022100
SUMMARY:Netauktion objekt 1474-031 Auktionspåminnelse
DESCRIPTION:Länk till objektet du var intresserad av: https://staging.netauktion.se/auktion/produkt/ikea-arbetsplats-med-elskrivbord
END:VEVENT
END:VCALENDAR
