BEGIN:VCALENDAR
VERSION:2.0
PRODID:-//NetAuktion//NONSGML NetAuktion//SV
METHOD:PUBLISH
BEGIN:VEVENT
UID:20260421T104439-1353065315-netauktion.se
DTSTAMP:20260421T104439
DTSTART:20130531T025400
DTEND:20130531T025700
SUMMARY:Netauktion objekt 1476-002 Auktionspåminnelse
DESCRIPTION:Länk till objektet du var intresserad av: https://staging.netauktion.se/auktion/produkt/elektriskt-skrivbord-med-mobler-1
END:VEVENT
END:VCALENDAR
