BEGIN:VCALENDAR
VERSION:2.0
PRODID:-//NetAuktion//NONSGML NetAuktion//SV
METHOD:PUBLISH
BEGIN:VEVENT
UID:20260421T102834-1628898470-netauktion.se
DTSTAMP:20260421T102834
DTSTART:20090430T021000
DTEND:20090430T021300
SUMMARY:Netauktion objekt 0259-015 Auktionspåminnelse
DESCRIPTION:Länk till objektet du var intresserad av: https://staging.netauktion.se/auktion/produkt/2-plasttankar-1000-literst-9
END:VEVENT
END:VCALENDAR
