BEGIN:VCALENDAR
VERSION:2.0
PRODID:-//NetAuktion//NONSGML NetAuktion//SV
METHOD:PUBLISH
BEGIN:VEVENT
UID:20260421T104443-969321102-netauktion.se
DTSTAMP:20260421T104443
DTSTART:20090430T020900
DTEND:20090430T021200
SUMMARY:Netauktion objekt 0259-016 Auktionspåminnelse
DESCRIPTION:Länk till objektet du var intresserad av: https://staging.netauktion.se/auktion/produkt/2-plasttankar-1000-literst-7
END:VEVENT
END:VCALENDAR
