BEGIN:VCALENDAR
VERSION:2.0
PRODID:-//NetAuktion//NONSGML NetAuktion//SV
METHOD:PUBLISH
BEGIN:VEVENT
UID:20260421T104438-1583572636-netauktion.se
DTSTAMP:20260421T104438
DTSTART:20130531T024800
DTEND:20130531T025100
SUMMARY:Netauktion objekt 1475-008 Auktionspåminnelse
DESCRIPTION:Länk till objektet du var intresserad av: https://staging.netauktion.se/auktion/produkt/1st-elektriskt-skrivbord
END:VEVENT
END:VCALENDAR
