BEGIN:VCALENDAR
VERSION:2.0
PRODID:-//NetAuktion//NONSGML NetAuktion//SV
METHOD:PUBLISH
BEGIN:VEVENT
UID:20260421T104432-2035629471-netauktion.se
DTSTAMP:20260421T104432
DTSTART:20130531T021600
DTEND:20130531T021900
SUMMARY:Netauktion objekt 1474-007 Auktionspåminnelse
DESCRIPTION:Länk till objektet du var intresserad av: https://staging.netauktion.se/auktion/produkt/taklampa-luxo-borens
END:VEVENT
END:VCALENDAR
