BEGIN:VCALENDAR
VERSION:2.0
PRODID:-//NetAuktion//NONSGML NetAuktion//SV
METHOD:PUBLISH
BEGIN:VEVENT
UID:20260421T104322-357894477-netauktion.se
DTSTAMP:20260421T104322
DTSTART:20090430T021200
DTEND:20090430T021500
SUMMARY:Netauktion objekt 0259-019 Auktionspåminnelse
DESCRIPTION:Länk till objektet du var intresserad av: https://staging.netauktion.se/auktion/produkt/2-plasttankar-1000-literst-4
END:VEVENT
END:VCALENDAR
