BEGIN:VCALENDAR
VERSION:2.0
PRODID:-//NetAuktion//NONSGML NetAuktion//SV
METHOD:PUBLISH
BEGIN:VEVENT
UID:20260421T103032-1863933943-netauktion.se
DTSTAMP:20260421T103032
DTSTART:20130531T022200
DTEND:20130531T022500
SUMMARY:Netauktion objekt 1474-046 Auktionspåminnelse
DESCRIPTION:Länk till objektet du var intresserad av: https://staging.netauktion.se/auktion/produkt/stereo-modem-och-kassaskrin
END:VEVENT
END:VCALENDAR
