BEGIN:VCALENDAR
VERSION:2.0
PRODID:-//NetAuktion//NONSGML NetAuktion//SV
METHOD:PUBLISH
BEGIN:VEVENT
UID:20260421T102743-1471996447-netauktion.se
DTSTAMP:20260421T102743
DTSTART:20090430T022700
DTEND:20090430T023000
SUMMARY:Netauktion objekt 0259-021 Auktionspåminnelse
DESCRIPTION:Länk till objektet du var intresserad av: https://staging.netauktion.se/auktion/produkt/2-bassanger-ca-300x225-cm
END:VEVENT
END:VCALENDAR
