BEGIN:VCALENDAR
VERSION:2.0
PRODID:-//NetAuktion//NONSGML NetAuktion//SV
METHOD:PUBLISH
BEGIN:VEVENT
UID:20260421T104322-1857376176-netauktion.se
DTSTAMP:20260421T104322
DTSTART:20090430T022700
DTEND:20090430T023000
SUMMARY:Netauktion objekt 0259-023 Auktionspåminnelse
DESCRIPTION:Länk till objektet du var intresserad av: https://staging.netauktion.se/auktion/produkt/2-bassanger-ca-300x225-cm-3
END:VEVENT
END:VCALENDAR
