BEGIN:VCALENDAR
VERSION:2.0
PRODID:-//NetAuktion//NONSGML NetAuktion//SV
METHOD:PUBLISH
BEGIN:VEVENT
UID:20260421T104442-6651659-netauktion.se
DTSTAMP:20260421T104442
DTSTART:20130531T022800
DTEND:20130531T023100
SUMMARY:Netauktion objekt 1474-071 Auktionspåminnelse
DESCRIPTION:Länk till objektet du var intresserad av: https://staging.netauktion.se/auktion/produkt/router-airport-extreme-apple
END:VEVENT
END:VCALENDAR
