BEGIN:VCALENDAR
VERSION:2.0
PRODID:-//NetAuktion//NONSGML NetAuktion//SV
METHOD:PUBLISH
BEGIN:VEVENT
UID:20260421T104441-1358287176-netauktion.se
DTSTAMP:20260421T104441
DTSTART:20130531T023300
DTEND:20130531T023600
SUMMARY:Netauktion objekt 1474-072 Auktionspåminnelse
DESCRIPTION:Länk till objektet du var intresserad av: https://staging.netauktion.se/auktion/produkt/ritplatta-skarm-tangentbord
END:VEVENT
END:VCALENDAR
