BEGIN:VCALENDAR
VERSION:2.0
PRODID:-//NetAuktion//NONSGML NetAuktion//SV
METHOD:PUBLISH
BEGIN:VEVENT
UID:20260421T104323-116496663-netauktion.se
DTSTAMP:20260421T104323
DTSTART:20130531T023600
DTEND:20130531T023900
SUMMARY:Netauktion objekt 1474-081 Auktionspåminnelse
DESCRIPTION:Länk till objektet du var intresserad av: https://staging.netauktion.se/auktion/produkt/digitalkamera-panasonic-lumix-dmc-tz25-2
END:VEVENT
END:VCALENDAR
