BEGIN:VCALENDAR
VERSION:2.0
PRODID:-//NetAuktion//NONSGML NetAuktion//SV
METHOD:PUBLISH
BEGIN:VEVENT
UID:20260421T104310-1567138441-netauktion.se
DTSTAMP:20260421T104310
DTSTART:20130531T023700
DTEND:20130531T024000
SUMMARY:Netauktion objekt 1474-082 Auktionspåminnelse
DESCRIPTION:Länk till objektet du var intresserad av: https://staging.netauktion.se/auktion/produkt/digitalkamera-sony-dsc-t900
END:VEVENT
END:VCALENDAR
