BEGIN:VCALENDAR
VERSION:2.0
PRODID:-//NetAuktion//NONSGML NetAuktion//SV
METHOD:PUBLISH
BEGIN:VEVENT
UID:20260425T134355-1274743385-netauktion.se
DTSTAMP:20260425T134355
DTSTART:20090521T024300
DTEND:20090521T024600
SUMMARY:Netauktion objekt 0201-158 Auktionspåminnelse
DESCRIPTION:Länk till objektet du var intresserad av: https://staging.netauktion.se/auktion/produkt/mares-avanti-x-3-simfenor-3
END:VEVENT
END:VCALENDAR
