BEGIN:VCALENDAR
VERSION:2.0
PRODID:-//NetAuktion//NONSGML NetAuktion//SV
METHOD:PUBLISH
BEGIN:VEVENT
UID:20260421T102745-2017523704-netauktion.se
DTSTAMP:20260421T102745
DTSTART:20090430T022000
DTEND:20090430T022300
SUMMARY:Netauktion objekt 0259-027 Auktionspåminnelse
DESCRIPTION:Länk till objektet du var intresserad av: https://staging.netauktion.se/auktion/produkt/eltruck-clark-tw-22-arsmodell-1973
END:VEVENT
END:VCALENDAR
