BEGIN:VCALENDAR
VERSION:2.0
PRODID:-//NetAuktion//NONSGML NetAuktion//SV
METHOD:PUBLISH
BEGIN:VEVENT
UID:20260425T123243-277974419-netauktion.se
DTSTAMP:20260425T123243
DTSTART:20090521T025000
DTEND:20090521T025300
SUMMARY:Netauktion objekt 0201-160 Auktionspåminnelse
DESCRIPTION:Länk till objektet du var intresserad av: https://staging.netauktion.se/auktion/produkt/nya-scubapro-twin-jet-max-gula-stl-m-fenvaska-4
END:VEVENT
END:VCALENDAR
