BEGIN:VCALENDAR
VERSION:2.0
PRODID:-//NetAuktion//NONSGML NetAuktion//SV
METHOD:PUBLISH
BEGIN:VEVENT
UID:20260425T135429-1973862018-netauktion.se
DTSTAMP:20260425T135429
DTSTART:20090521T025100
DTEND:20090521T025400
SUMMARY:Netauktion objekt 0201-164 Auktionspåminnelse
DESCRIPTION:Länk till objektet du var intresserad av: https://staging.netauktion.se/auktion/produkt/nya-scubapro-twin-jet-max-roda-stl-xl-5
END:VEVENT
END:VCALENDAR
