BEGIN:VCALENDAR
VERSION:2.0
PRODID:-//NetAuktion//NONSGML NetAuktion//SV
METHOD:PUBLISH
BEGIN:VEVENT
UID:20260421T104316-905755602-netauktion.se
DTSTAMP:20260421T104316
DTSTART:20090430T022600
DTEND:20090430T022900
SUMMARY:Netauktion objekt 0259-031 Auktionspåminnelse
DESCRIPTION:Länk till objektet du var intresserad av: https://staging.netauktion.se/auktion/produkt/palldragare-bt-truck
END:VEVENT
END:VCALENDAR
