BEGIN:VCALENDAR
VERSION:2.0
PRODID:-//NetAuktion//NONSGML NetAuktion//SV
METHOD:PUBLISH
BEGIN:VEVENT
UID:20260421T104455-466310059-netauktion.se
DTSTAMP:20260421T104455
DTSTART:20130531T021100
DTEND:20130531T021400
SUMMARY:Netauktion objekt 1146-242 Auktionspåminnelse
DESCRIPTION:Länk till objektet du var intresserad av: https://staging.netauktion.se/auktion/produkt/silverkedja-med-berlock-dalahast-2-3-2
END:VEVENT
END:VCALENDAR
