BEGIN:VCALENDAR
VERSION:2.0
PRODID:-//NetAuktion//NONSGML NetAuktion//SV
METHOD:PUBLISH
BEGIN:VEVENT
UID:20260421T104255-921802099-netauktion.se
DTSTAMP:20260421T104255
DTSTART:20130531T020700
DTEND:20130531T021000
SUMMARY:Netauktion objekt 1146-243 Auktionspåminnelse
DESCRIPTION:Länk till objektet du var intresserad av: https://staging.netauktion.se/auktion/produkt/halsband-med-berlock-are-by-day-8-2
END:VEVENT
END:VCALENDAR
