BEGIN:VCALENDAR
VERSION:2.0
PRODID:-//NetAuktion//NONSGML NetAuktion//SV
METHOD:PUBLISH
BEGIN:VEVENT
UID:20260421T103005-1512916143-netauktion.se
DTSTAMP:20260421T103005
DTSTART:20130530T024300
DTEND:20130530T024600
SUMMARY:Netauktion objekt 1486-104 Auktionspåminnelse
DESCRIPTION:Länk till objektet du var intresserad av: https://staging.netauktion.se/auktion/produkt/parfym-harfarg
END:VEVENT
END:VCALENDAR
