BEGIN:VCALENDAR
VERSION:2.0
PRODID:-//NetAuktion//NONSGML NetAuktion//SV
METHOD:PUBLISH
BEGIN:VEVENT
UID:20260421T104635-951220700-netauktion.se
DTSTAMP:20260421T104635
DTSTART:20130530T025100
DTEND:20130530T025400
SUMMARY:Netauktion objekt 1486-111 Auktionspåminnelse
DESCRIPTION:Länk till objektet du var intresserad av: https://staging.netauktion.se/auktion/produkt/stort-paket-med-julpynt-och-belysning
END:VEVENT
END:VCALENDAR
