BEGIN:VCALENDAR
VERSION:2.0
PRODID:-//NetAuktion//NONSGML NetAuktion//SV
METHOD:PUBLISH
BEGIN:VEVENT
UID:20260421T104441-1724249008-netauktion.se
DTSTAMP:20260421T104441
DTSTART:20130531T023700
DTEND:20130531T024000
SUMMARY:Netauktion objekt 1474-086 Auktionspåminnelse
DESCRIPTION:Länk till objektet du var intresserad av: https://staging.netauktion.se/auktion/produkt/1st-kylskap-elektrolux-inspire-rostfri
END:VEVENT
END:VCALENDAR
