BEGIN:VCALENDAR
VERSION:2.0
PRODID:-//NetAuktion//NONSGML NetAuktion//SV
METHOD:PUBLISH
BEGIN:VEVENT
UID:20260421T102840-2024634918-netauktion.se
DTSTAMP:20260421T102840
DTSTART:20130628T014600
DTEND:20130628T014900
SUMMARY:Netauktion objekt 1499-028 Auktionspåminnelse
DESCRIPTION:Länk till objektet du var intresserad av: https://staging.netauktion.se/auktion/produkt/banksvarv-3
END:VEVENT
END:VCALENDAR
