BEGIN:VCALENDAR
VERSION:2.0
PRODID:-//NetAuktion//NONSGML NetAuktion//SV
METHOD:PUBLISH
BEGIN:VEVENT
UID:20260421T102802-20763088-netauktion.se
DTSTAMP:20260421T102802
DTSTART:20130628T022500
DTEND:20130628T022800
SUMMARY:Netauktion objekt 1512-004 Auktionspåminnelse
DESCRIPTION:Länk till objektet du var intresserad av: https://staging.netauktion.se/auktion/produkt/chili-con-carne-kottbullar-boeuf-bourguignon
END:VEVENT
END:VCALENDAR
