BEGIN:VCALENDAR
VERSION:2.0
PRODID:-//NetAuktion//NONSGML NetAuktion//SV
METHOD:PUBLISH
BEGIN:VEVENT
UID:20260421T102932-345163092-netauktion.se
DTSTAMP:20260421T102932
DTSTART:20130628T022000
DTEND:20130628T022300
SUMMARY:Netauktion objekt 1512-005 Auktionspåminnelse
DESCRIPTION:Länk till objektet du var intresserad av: https://staging.netauktion.se/auktion/produkt/wallenbergare-kycklingspett
END:VEVENT
END:VCALENDAR
