BEGIN:VCALENDAR
VERSION:2.0
PRODID:-//NetAuktion//NONSGML NetAuktion//SV
METHOD:PUBLISH
BEGIN:VEVENT
UID:20260421T104316-224310410-netauktion.se
DTSTAMP:20260421T104316
DTSTART:20130628T023700
DTEND:20130628T024000
SUMMARY:Netauktion objekt 1512-025 Auktionspåminnelse
DESCRIPTION:Länk till objektet du var intresserad av: https://staging.netauktion.se/auktion/produkt/maltider-lasagne
END:VEVENT
END:VCALENDAR
