BEGIN:VCALENDAR
VERSION:2.0
PRODID:-//NetAuktion//NONSGML NetAuktion//SV
METHOD:PUBLISH
BEGIN:VEVENT
UID:20260421T104309-2001274205-netauktion.se
DTSTAMP:20260421T104309
DTSTART:20130628T024300
DTEND:20130628T024600
SUMMARY:Netauktion objekt 1512-030 Auktionspåminnelse
DESCRIPTION:Länk till objektet du var intresserad av: https://staging.netauktion.se/auktion/produkt/torrvaror-kryddor-1
END:VEVENT
END:VCALENDAR
