BEGIN:VCALENDAR
VERSION:2.0
PRODID:-//NetAuktion//NONSGML NetAuktion//SV
METHOD:PUBLISH
BEGIN:VEVENT
UID:20260421T104353-1984045912-netauktion.se
DTSTAMP:20260421T104353
DTSTART:20130628T024500
DTEND:20130628T024800
SUMMARY:Netauktion objekt 1512-033 Auktionspåminnelse
DESCRIPTION:Länk till objektet du var intresserad av: https://staging.netauktion.se/auktion/produkt/worcestershire-sas-rokextrakt
END:VEVENT
END:VCALENDAR
