BEGIN:VCALENDAR
VERSION:2.0
PRODID:-//NetAuktion//NONSGML NetAuktion//SV
METHOD:PUBLISH
BEGIN:VEVENT
UID:20260421T104444-1174770547-netauktion.se
DTSTAMP:20260421T104444
DTSTART:20130628T025200
DTEND:20130628T025500
SUMMARY:Netauktion objekt 1512-039 Auktionspåminnelse
DESCRIPTION:Länk till objektet du var intresserad av: https://staging.netauktion.se/auktion/produkt/rapsolja-pa-fat
END:VEVENT
END:VCALENDAR
