BEGIN:VCALENDAR
VERSION:2.0
PRODID:-//NetAuktion//NONSGML NetAuktion//SV
METHOD:PUBLISH
BEGIN:VEVENT
UID:20260425T134423-1039800501-netauktion.se
DTSTAMP:20260425T134423
DTSTART:20090521T010300
DTEND:20090521T010600
SUMMARY:Netauktion objekt 0258-121 Auktionspåminnelse
DESCRIPTION:Länk till objektet du var intresserad av: https://staging.netauktion.se/auktion/produkt/prydnadsforemal-10-delar
END:VEVENT
END:VCALENDAR
